BEGIN:VCALENDAR
VERSION:2.0
PRODID:-//Cocks Moors Woods Aikido - ECPv6.15.17.1//NONSGML v1.0//EN
CALSCALE:GREGORIAN
METHOD:PUBLISH
X-ORIGINAL-URL:https://cocksmoorsaikido.com
X-WR-CALDESC:Events for Cocks Moors Woods Aikido
REFRESH-INTERVAL;VALUE=DURATION:PT1H
X-Robots-Tag:noindex
X-PUBLISHED-TTL:PT1H
BEGIN:VTIMEZONE
TZID:UTC
BEGIN:STANDARD
TZOFFSETFROM:+0000
TZOFFSETTO:+0000
TZNAME:UTC
DTSTART:20250101T000000
END:STANDARD
END:VTIMEZONE
BEGIN:VEVENT
DTSTART;TZID=UTC:20260130T080000
DTEND;TZID=UTC:20260201T170000
DTSTAMP:20260424T001421
CREATED:20260110T145732Z
LAST-MODIFIED:20260110T145732Z
UID:679-1769760000-1769965200@cocksmoorsaikido.com
SUMMARY:Ann Jyou Kan - PARIS course
DESCRIPTION:Screenshot
URL:https://cocksmoorsaikido.com/event/ann-jyou-kan-paris-course/
LOCATION:Ann Jyou Kan Dojo – France\, 93 rue Pelleport\, 75020 Paris\, France
END:VEVENT
END:VCALENDAR