BEGIN:VCALENDAR
VERSION:2.0
PRODID:-//Cocks Moors Woods Aikido - ECPv6.15.17.1//NONSGML v1.0//EN
CALSCALE:GREGORIAN
METHOD:PUBLISH
X-WR-CALNAME:Cocks Moors Woods Aikido
X-ORIGINAL-URL:https://cocksmoorsaikido.com
X-WR-CALDESC:Events for Cocks Moors Woods Aikido
REFRESH-INTERVAL;VALUE=DURATION:PT1H
X-Robots-Tag:noindex
X-PUBLISHED-TTL:PT1H
BEGIN:VTIMEZONE
TZID:UTC
BEGIN:STANDARD
TZOFFSETFROM:+0000
TZOFFSETTO:+0000
TZNAME:UTC
DTSTART:20250101T000000
END:STANDARD
END:VTIMEZONE
BEGIN:VEVENT
DTSTART;TZID=UTC:20260117T120000
DTEND;TZID=UTC:20260117T170000
DTSTAMP:20260424T070921
CREATED:20260110T061445Z
LAST-MODIFIED:20260110T061445Z
UID:509-1768651200-1768669200@cocksmoorsaikido.com
SUMMARY:British Birankai Weapons Course
DESCRIPTION:
URL:https://cocksmoorsaikido.com/event/british-birankai-weapons-course/
LOCATION:Cocks Moors Woods Dojo\, Cocks Moors Woods Leisure Center\, birmingham\, b14 6er\, United Kingdom
ORGANIZER;CN="British Birankai":MAILTO:cocksmoorsaikido@gmail.com
END:VEVENT
END:VCALENDAR